BEGIN:VCALENDAR
VERSION:2.0
PRODID:-//www.ketchikanarts.org//NONSGML kigkonsult.se iCalcreator 2.30.10/
 /
CALSCALE:GREGORIAN
METHOD:PUBLISH
UID:5d892cf5-004a-489f-8709-691058ce967f
X-WR-CALDESC:Self-described paleo nerds Ray Troll and David Strassman discu
 ss paleontology with experts around the nation in their podcast. New podca
 sts every Wednesday!
X-WR-RELCALID:6795ff4a3c756824ebd797b6581b8d29
X-WR-TIMEZONE:America/Anchorage
BEGIN:VTIMEZONE
TZID:America/Anchorage
BEGIN:STANDARD
TZNAME:AKST
DTSTART:20201101T020000
TZOFFSETFROM:-0800
TZOFFSETTO:-0900
RDATE:20211107T020000
RDATE:20221106T020000
END:STANDARD
BEGIN:DAYLIGHT
TZNAME:AKDT
DTSTART:20210314T020000
TZOFFSETFROM:-0900
TZOFFSETTO:-0800
RDATE:20220313T020000
END:DAYLIGHT
END:VTIMEZONE
BEGIN:VEVENT
UID:d7ddb285-3eed-4a26-94fe-c9ec474cc21c
DTSTAMP:20260421T031351Z
DESCRIPTION:Self-described paleo nerds Ray Troll and David Strassman discus
 s paleontology with experts around the nation in their podcast. New podcas
 ts every Wednesday!
DTSTART;TZID=America/Anchorage:20210623T120000
DTEND;TZID=America/Anchorage:20210623T130000
LOCATION:An online podcast!
SUMMARY:Paleo Nerds
END:VEVENT
END:VCALENDAR
