BEGIN:VCALENDAR
VERSION:2.0
PRODID:-//www.ketchikanarts.org//NONSGML kigkonsult.se iCalcreator 2.30.10/
 /
CALSCALE:GREGORIAN
METHOD:PUBLISH
UID:c38b4a72-ec35-4128-9ef2-53cee1ccf36c
X-WR-CALDESC:This month\, Ketchikan fiber artist\, Jean Bartos will 'weave'
  us a story.
X-WR-RELCALID:22bc5ef9022215c7741accb65ae44397
X-WR-TIMEZONE:America/Anchorage
BEGIN:VTIMEZONE
TZID:America/Anchorage
BEGIN:STANDARD
TZNAME:AKST
DTSTART:20201101T020000
TZOFFSETFROM:-0800
TZOFFSETTO:-0900
RDATE:20211107T020000
RDATE:20221106T020000
END:STANDARD
BEGIN:DAYLIGHT
TZNAME:AKDT
DTSTART:20210314T020000
TZOFFSETFROM:-0900
TZOFFSETTO:-0800
RDATE:20220313T020000
END:DAYLIGHT
END:VTIMEZONE
BEGIN:VEVENT
UID:8041e336-f6a0-492c-a742-d505230d27f6
DTSTAMP:20260421T031854Z
DESCRIPTION:This month\, Ketchikan fiber artist\, Jean Bartos will 'weave' 
 us a story.
DTSTART;TZID=America/Anchorage:20210619T210000
DTEND;TZID=America/Anchorage:20210619T213000
LOCATION:Tune in to KRBD
SUMMARY:Stories at Latitude 56: The Radio Edition
END:VEVENT
END:VCALENDAR
