BEGIN:VCALENDAR
VERSION:2.0
PRODID:-//www.ketchikanarts.org//NONSGML kigkonsult.se iCalcreator 2.30.10/
 /
CALSCALE:GREGORIAN
METHOD:PUBLISH
UID:b8dafdde-9ee0-43ce-8c67-049394d8ec24
X-WR-CALDESC:Music Moves Dedication Ceremony\nMusic Moves is a fiscally spo
 nsored project of the Ketchikan Area Arts and Humanities Council. In colla
 boration with First City Rotary\, an interactive\, outdoor\, instrument in
 stallation has been installed at Rotary Beach. A special public dedication
  for the instrument installation will be held at\n2:00 pm at Rotary Beach.
  Please come out and enjoy this beautiful gift of music!
X-WR-RELCALID:2fdced528972926a1769eb32e5fa2c45
X-WR-TIMEZONE:America/Anchorage
BEGIN:VTIMEZONE
TZID:America/Anchorage
BEGIN:STANDARD
TZNAME:AKST
DTSTART:20201101T020000
TZOFFSETFROM:-0800
TZOFFSETTO:-0900
RDATE:20211107T020000
RDATE:20221106T020000
END:STANDARD
BEGIN:DAYLIGHT
TZNAME:AKDT
DTSTART:20210314T020000
TZOFFSETFROM:-0900
TZOFFSETTO:-0800
RDATE:20220313T020000
END:DAYLIGHT
END:VTIMEZONE
BEGIN:VEVENT
UID:720f80b3-b018-40b0-b56c-dfa3152d0493
DTSTAMP:20260421T031526Z
DESCRIPTION:Music Moves Dedication Ceremony\nMusic Moves is a fiscally spon
 sored project of the Ketchikan Area Arts and Humanities Council. In collab
 oration with First City Rotary\, an interactive\, outdoor\, instrument ins
 tallation has been installed at Rotary Beach. A special public dedication 
 for the instrument installation will be held at\n2:00 pm at Rotary Beach. 
 Please come out and enjoy this beautiful gift of music!
DTSTART;TZID=America/Anchorage:20210619T140000
DTEND;TZID=America/Anchorage:20210619T170000
LOCATION:Rotary Beach - Martin Buggie Beach
SUMMARY:Music Moves Dedication Ceremony
END:VEVENT
END:VCALENDAR
