BEGIN:VCALENDAR
VERSION:2.0
PRODID:-//www.ketchikanarts.org//NONSGML kigkonsult.se iCalcreator 2.30.10/
 /
CALSCALE:GREGORIAN
METHOD:PUBLISH
UID:387e9a1b-33d9-442f-a568-dac266294de1
X-WR-CALDESC:Diane Slagel on the piano playing music you can eat fish by.
X-WR-RELCALID:7f44a0e63510989bf86acdc7263e240e
X-WR-TIMEZONE:America/Anchorage
BEGIN:VTIMEZONE
TZID:America/Anchorage
BEGIN:STANDARD
TZNAME:AKST
DTSTART:20201101T020000
TZOFFSETFROM:-0800
TZOFFSETTO:-0900
RDATE:20211107T020000
RDATE:20221106T020000
END:STANDARD
BEGIN:DAYLIGHT
TZNAME:AKDT
DTSTART:20210314T020000
TZOFFSETFROM:-0900
TZOFFSETTO:-0800
RDATE:20220313T020000
END:DAYLIGHT
END:VTIMEZONE
BEGIN:VEVENT
UID:abaffdfa-63eb-41f9-a805-9a1ac1a16481
DTSTAMP:20260421T030846Z
DESCRIPTION:Diane Slagel on the piano playing music you can eat fish by.
DTSTART;TZID=America/Anchorage:20210619T170000
DTEND;TZID=America/Anchorage:20210619T200000
LOCATION:Alaska Fish House
SUMMARY:Diane Slagle Piano Bar
END:VEVENT
END:VCALENDAR
