BEGIN:VCALENDAR
VERSION:2.0
PRODID:-//www.ketchikanarts.org//NONSGML kigkonsult.se iCalcreator 2.30.10/
 /
CALSCALE:GREGORIAN
METHOD:PUBLISH
UID:385a440a-e80f-4dcb-b50b-cfc4f1ac9a95
X-WR-CALDESC:Live music from Dave Rubin\, Hannah Kerick\, and Chazz Gist wi
 th the vocal talents of Penny Hanlin\n
X-WR-RELCALID:a83045b1e0ece47accf4baeebdb780e6
X-WR-TIMEZONE:America/Anchorage
BEGIN:VTIMEZONE
TZID:America/Anchorage
BEGIN:STANDARD
TZNAME:AKST
DTSTART:20201101T020000
TZOFFSETFROM:-0800
TZOFFSETTO:-0900
RDATE:20211107T020000
RDATE:20221106T020000
END:STANDARD
BEGIN:DAYLIGHT
TZNAME:AKDT
DTSTART:20210314T020000
TZOFFSETFROM:-0900
TZOFFSETTO:-0800
RDATE:20220313T020000
END:DAYLIGHT
END:VTIMEZONE
BEGIN:VEVENT
UID:026df568-c78f-4cdb-b933-fca989837a1b
DTSTAMP:20260421T032028Z
DESCRIPTION:Live music from Dave Rubin\, Hannah Kerick\, and Chazz Gist wit
 h the vocal talents of Penny Hanlin\n
DTSTART;TZID=America/Anchorage:20210618T190000
DTEND;TZID=America/Anchorage:20210618T200000
LOCATION:The New York Cafe
SUMMARY:Dave\, Hannah\, and Chazz at the New York
END:VEVENT
END:VCALENDAR
