BEGIN:VCALENDAR
VERSION:2.0
PRODID:-//www.ketchikanarts.org//NONSGML kigkonsult.se iCalcreator 2.30.10/
 /
CALSCALE:GREGORIAN
METHOD:PUBLISH
UID:2df0d5c1-8391-4dcb-8d72-7549109088de
X-WR-CALDESC:The Smithsonian Arctic Studies Center Alaska and Sealaska Heri
 tage Institute invite you to join them on Friday\, June 18th\, 2021 at 10:
 00-10:30am AK / 2:00pm-2:30pm EST for the webinar “Voices from Cedar: Sout
 heast Alaska Wind Instruments.”  \n \nJoin Tsimshian Master Artist John C.
  Hudson III at his art studio in Metlakatla for a conversation about South
 east Alaska wind instruments\, with a focus on whistles carved from red ce
 dar. Find out about online videos where you can learn how to carve a whist
 le with John as your teacher. Dawn Biddison from the Smithsonian Arctic St
 udies Center Alaska will host the event.  \n \nPlease click the link below
  to join the webinar: \nhttps://smithsonian.zoom.us/j/86426841564?pwd=SmRD
 MnFDdW1zWlB5eGZ2M3hhcks3UT09 (Passcode: 621005) \nor call 1-669-900-6833 (
 Webinar ID: 864 2684 1564 / Passcode: 621005) \n \nWe encourage the audien
 ce to submit questions during the event using the “Q&A” option or “raise h
 and” button to ask your question in person. Links and other information wi
 ll be shared in the “chat” window. \n \nThis event will be recorded and po
 sted online at the “Smithsonian Arctic Studies Center in Alaska” Learning 
 Lab site (https://learninglab.si.edu/org/sasc-ak) and YouTube channel (htt
 ps://www.youtube.com/channel/UCNpC1tX-kqJaSU7ZSxUWAfA).
X-WR-RELCALID:4d7d53949fe90b7431df873c9b7f01ca
X-WR-TIMEZONE:America/Anchorage
BEGIN:VTIMEZONE
TZID:America/Anchorage
BEGIN:STANDARD
TZNAME:AKST
DTSTART:20201101T020000
TZOFFSETFROM:-0800
TZOFFSETTO:-0900
RDATE:20211107T020000
RDATE:20221106T020000
END:STANDARD
BEGIN:DAYLIGHT
TZNAME:AKDT
DTSTART:20210314T020000
TZOFFSETFROM:-0900
TZOFFSETTO:-0800
RDATE:20220313T020000
END:DAYLIGHT
END:VTIMEZONE
BEGIN:VEVENT
UID:986878b7-7a6f-4dee-99f1-6f1a1f5fe7d7
DTSTAMP:20260421T031524Z
DESCRIPTION:The Smithsonian Arctic Studies Center Alaska and Sealaska Herit
 age Institute invite you to join them on Friday\, June 18th\, 2021 at 10:0
 0-10:30am AK / 2:00pm-2:30pm EST for the webinar “Voices from Cedar: South
 east Alaska Wind Instruments.”  \n \nJoin Tsimshian Master Artist John C. 
 Hudson III at his art studio in Metlakatla for a conversation about Southe
 ast Alaska wind instruments\, with a focus on whistles carved from red ced
 ar. Find out about online videos where you can learn how to carve a whistl
 e with John as your teacher. Dawn Biddison from the Smithsonian Arctic Stu
 dies Center Alaska will host the event.  \n \nPlease click the link below 
 to join the webinar: \nhttps://smithsonian.zoom.us/j/86426841564?pwd=SmRDM
 nFDdW1zWlB5eGZ2M3hhcks3UT09 (Passcode: 621005) \nor call 1-669-900-6833 (W
 ebinar ID: 864 2684 1564 / Passcode: 621005) \n \nWe encourage the audienc
 e to submit questions during the event using the “Q&A” option or “raise ha
 nd” button to ask your question in person. Links and other information wil
 l be shared in the “chat” window. \n \nThis event will be recorded and pos
 ted online at the “Smithsonian Arctic Studies Center in Alaska” Learning L
 ab site (https://learninglab.si.edu/org/sasc-ak) and YouTube channel (http
 s://www.youtube.com/channel/UCNpC1tX-kqJaSU7ZSxUWAfA).
DTSTART;TZID=America/Anchorage:20210618T100000
DTEND;TZID=America/Anchorage:20210618T103000
LOCATION:
SUMMARY:'Voices from Cedar: Southeast Alaskan Wind Instruments'
END:VEVENT
END:VCALENDAR
