BEGIN:VCALENDAR
VERSION:2.0
PRODID:-//www.ketchikanarts.org//NONSGML kigkonsult.se iCalcreator 2.30.10/
 /
CALSCALE:GREGORIAN
METHOD:PUBLISH
UID:ff50bf13-e763-4469-8ef0-0c317e80a66a
X-WR-CALDESC:Self-described paleo nerds Ray Troll and David Strassman discu
 ss paleontology with experts around the nation in their podcast. New podca
 sts every Wednesday!
X-WR-RELCALID:89759ce2e8bb1bb85bfaee34ac54e6d1
X-WR-TIMEZONE:America/Anchorage
BEGIN:VTIMEZONE
TZID:America/Anchorage
BEGIN:STANDARD
TZNAME:AKST
DTSTART:20201101T020000
TZOFFSETFROM:-0800
TZOFFSETTO:-0900
RDATE:20211107T020000
RDATE:20221106T020000
END:STANDARD
BEGIN:DAYLIGHT
TZNAME:AKDT
DTSTART:20210314T020000
TZOFFSETFROM:-0900
TZOFFSETTO:-0800
RDATE:20220313T020000
END:DAYLIGHT
END:VTIMEZONE
BEGIN:VEVENT
UID:7c43473b-c259-40f3-9d34-1932e28743dc
DTSTAMP:20260421T031601Z
DESCRIPTION:Self-described paleo nerds Ray Troll and David Strassman discus
 s paleontology with experts around the nation in their podcast. New podcas
 ts every Wednesday!
DTSTART;TZID=America/Anchorage:20210616T120000
DTEND;TZID=America/Anchorage:20210616T130000
LOCATION:An online podcast!
SUMMARY:Paleo Nerds
END:VEVENT
END:VCALENDAR
