BEGIN:VCALENDAR
VERSION:2.0
PRODID:-//www.ketchikanarts.org//NONSGML kigkonsult.se iCalcreator 2.30.10/
 /
CALSCALE:GREGORIAN
METHOD:PUBLISH
UID:763b08d0-612d-4c5e-8b3d-43fd17e0468d
X-WR-CALDESC:Creek Street Cabaret\n$3 Cover\nMust be 21 or accompanied by a
  parent or legal guardian.\nDoors open at 5:00 for dinner
X-WR-RELCALID:afc95b14ec2db55add07bfb23354e49c
X-WR-TIMEZONE:America/Anchorage
BEGIN:VTIMEZONE
TZID:America/Anchorage
BEGIN:STANDARD
TZNAME:AKST
DTSTART:20201101T020000
TZOFFSETFROM:-0800
TZOFFSETTO:-0900
RDATE:20211107T020000
RDATE:20221106T020000
END:STANDARD
BEGIN:DAYLIGHT
TZNAME:AKDT
DTSTART:20210314T020000
TZOFFSETFROM:-0900
TZOFFSETTO:-0800
RDATE:20220313T020000
END:DAYLIGHT
END:VTIMEZONE
BEGIN:VEVENT
UID:800f35c8-2741-49aa-837e-7a86fcd851c4
DTSTAMP:20260421T030937Z
DESCRIPTION:Creek Street Cabaret\n$3 Cover\nMust be 21 or accompanied by a 
 parent or legal guardian.\nDoors open at 5:00 for dinner
DTSTART;TZID=America/Anchorage:20210612T190000
DTEND;TZID=America/Anchorage:20210612T210000
LOCATION:
SUMMARY:Austin Hays Trio
END:VEVENT
END:VCALENDAR
