BEGIN:VCALENDAR
VERSION:2.0
PRODID:-//www.ketchikanarts.org//NONSGML kigkonsult.se iCalcreator 2.30.10/
 /
CALSCALE:GREGORIAN
METHOD:PUBLISH
UID:218e9f61-ca02-45e8-b89a-10072bc49a3a
X-WR-CALDESC:Loud and Queer a Quarterly Zine!\nSubmit to Loud and Queer! \n
 They encourage all kinds of submissions: visual art\, articles on LGBTQ+ h
 istory\, recommendations of local businesses\, reviews of queer media\, po
 ems\, stories\, memoirs\, links to queer playlists\, news\, queer theory\,
  how-to guides (example: how to find a queer-friendly doctor\; how to get 
 into drag\; etc.)\, or any other topics you think would be meaningful to t
 he Queer community of Southern Southeast Alaska. Have a personal connectio
 n to Southern Southeast Alaska (for example: live here\, have lived here\,
  work here\, have visited here)\n\nWritten works can range from 20 to arou
 nd 300 words (around one page)\n\nSend All Submissions to loudandqueerketc
 hikan@gmail.com\nPlease include Your name\, your pronouns\, how you would 
 like to be identified (for example: lesbian\, gay\, transgender\, queer\, 
 asexual\, ally\, ect.) and describe your connection to Southern Southeast 
 Alaska. \nYou may also submit work anonymously
X-WR-RELCALID:88cb187a7b851b1ec1a06e46efffdbd3
X-WR-TIMEZONE:America/Anchorage
BEGIN:VTIMEZONE
TZID:America/Anchorage
BEGIN:STANDARD
TZNAME:AKST
DTSTART:20201101T020000
TZOFFSETFROM:-0800
TZOFFSETTO:-0900
RDATE:20211107T020000
RDATE:20221106T020000
END:STANDARD
BEGIN:DAYLIGHT
TZNAME:AKDT
DTSTART:20210314T020000
TZOFFSETFROM:-0900
TZOFFSETTO:-0800
RDATE:20220313T020000
END:DAYLIGHT
END:VTIMEZONE
BEGIN:VEVENT
UID:123d6fde-1e7f-4202-b635-39aef5ab4516
DTSTAMP:20260421T031704Z
DESCRIPTION:Loud and Queer a Quarterly Zine!\nSubmit to Loud and Queer! \nT
 hey encourage all kinds of submissions: visual art\, articles on LGBTQ+ hi
 story\, recommendations of local businesses\, reviews of queer media\, poe
 ms\, stories\, memoirs\, links to queer playlists\, news\, queer theory\, 
 how-to guides (example: how to find a queer-friendly doctor\; how to get i
 nto drag\; etc.)\, or any other topics you think would be meaningful to th
 e Queer community of Southern Southeast Alaska. Have a personal connection
  to Southern Southeast Alaska (for example: live here\, have lived here\, 
 work here\, have visited here)\n\nWritten works can range from 20 to aroun
 d 300 words (around one page)\n\nSend All Submissions to loudandqueerketch
 ikan@gmail.com\nPlease include Your name\, your pronouns\, how you would l
 ike to be identified (for example: lesbian\, gay\, transgender\, queer\, a
 sexual\, ally\, ect.) and describe your connection to Southern Southeast A
 laska. \nYou may also submit work anonymously
DTSTART;TZID=America/Anchorage:20210610T173000
DTEND;TZID=America/Anchorage:20210610T183000
LOCATION:
SUMMARY:Loud and Queer Quarterly Zine
END:VEVENT
END:VCALENDAR
