BEGIN:VCALENDAR
VERSION:2.0
PRODID:-//www.ketchikanarts.org//NONSGML kigkonsult.se iCalcreator 2.30.10/
 /
CALSCALE:GREGORIAN
METHOD:PUBLISH
UID:a5d42068-bbfd-422d-a20f-f739e772e443
X-WR-CALDESC:Spring 2021 Open Call for Visual Artists and Photographers 11:
 59 pm PST June 10th\n$550. easy grants for artists and photographers $25 f
 ee
X-WR-RELCALID:e8ac66b1bcdb2a9611d5279bfe2ef5eb
X-WR-TIMEZONE:America/Anchorage
BEGIN:VTIMEZONE
TZID:America/Anchorage
BEGIN:STANDARD
TZNAME:AKST
DTSTART:20201101T020000
TZOFFSETFROM:-0800
TZOFFSETTO:-0900
RDATE:20211107T020000
RDATE:20221106T020000
END:STANDARD
BEGIN:DAYLIGHT
TZNAME:AKDT
DTSTART:20210314T020000
TZOFFSETFROM:-0900
TZOFFSETTO:-0800
RDATE:20220313T020000
END:DAYLIGHT
END:VTIMEZONE
BEGIN:VEVENT
UID:395156bf-9061-4f63-b6e1-707b654fa1c1
DTSTAMP:20260421T031353Z
DESCRIPTION:Spring 2021 Open Call for Visual Artists and Photographers 11:5
 9 pm PST June 10th\n$550. easy grants for artists and photographers $25 fe
 e
DTSTART;TZID=America/Anchorage:20210610T000000
DTEND;TZID=America/Anchorage:20210610T235900
LOCATION:
SUMMARY:Innovate Spring 2021 Grants
END:VEVENT
END:VCALENDAR
