BEGIN:VCALENDAR
VERSION:2.0
PRODID:-//www.ketchikanarts.org//NONSGML kigkonsult.se iCalcreator 2.30.10/
 /
CALSCALE:GREGORIAN
METHOD:PUBLISH
UID:ee6ed423-043c-4011-8ae6-922b5179ca95
X-WR-CALDESC:
X-WR-RELCALID:2eec64f2fedc4a85681bf7ac546d326b
X-WR-TIMEZONE:America/Anchorage
BEGIN:VTIMEZONE
TZID:America/Anchorage
BEGIN:STANDARD
TZNAME:AKST
DTSTART:20201101T020000
TZOFFSETFROM:-0800
TZOFFSETTO:-0900
RDATE:20211107T020000
RDATE:20221106T020000
END:STANDARD
BEGIN:DAYLIGHT
TZNAME:AKDT
DTSTART:20210314T020000
TZOFFSETFROM:-0900
TZOFFSETTO:-0800
RDATE:20220313T020000
END:DAYLIGHT
END:VTIMEZONE
BEGIN:VEVENT
UID:fce9da1a-e727-4bcb-b87d-c0f3eacf509f
DTSTAMP:20260421T045847Z
DESCRIPTION:
DTSTART;TZID=America/Anchorage:20210528T173000
DTEND;TZID=America/Anchorage:20210528T183000
LOCATION:330 Main Street\, Ketchikan\, AK 99901 US
SUMMARY:Artist Professional Development - How to Create Professional Headsh
 ots at Home
END:VEVENT
END:VCALENDAR
