BEGIN:VCALENDAR
VERSION:2.0
PRODID:-//www.ketchikanarts.org//NONSGML kigkonsult.se iCalcreator 2.30.10/
 /
CALSCALE:GREGORIAN
METHOD:PUBLISH
UID:8f8b1e18-f824-4d32-833c-980cfe76a533
X-WR-CALDESC:Monthly Board of Directors Meeting. Currently all KAAHC Board 
 meetings are held via ZOOM. If you would like to attend a Board meeting pl
 ease contact Kathleen Light for for attendance information. kathleenl@ketc
 hikanarts.org
X-WR-RELCALID:a5f0d3bb5c3e6bfe48ed57c092dbe8b8
X-WR-TIMEZONE:America/Anchorage
BEGIN:VTIMEZONE
TZID:America/Anchorage
BEGIN:STANDARD
TZNAME:AKST
DTSTART:20201101T020000
TZOFFSETFROM:-0800
TZOFFSETTO:-0900
RDATE:20211107T020000
RDATE:20221106T020000
END:STANDARD
BEGIN:DAYLIGHT
TZNAME:AKDT
DTSTART:20210314T020000
TZOFFSETFROM:-0900
TZOFFSETTO:-0800
RDATE:20220313T020000
END:DAYLIGHT
END:VTIMEZONE
BEGIN:VEVENT
UID:fa7eb005-7853-46b3-a96f-ee71f6d117c3
DTSTAMP:20260421T050348Z
DESCRIPTION:Monthly Board of Directors Meeting. Currently all KAAHC Board m
 eetings are held via ZOOM. If you would like to attend a Board meeting ple
 ase contact Kathleen Light for for attendance information. kathleenl@ketch
 ikanarts.org
DTSTART;TZID=America/Anchorage:20210519T173000
DTEND;TZID=America/Anchorage:20210519T190000
LOCATION:Main Street Gallery
SUMMARY:Ketchikan Area Arts and Humanities Board of Directors Meeting
END:VEVENT
END:VCALENDAR
