BEGIN:VCALENDAR
VERSION:2.0
PRODID:-//www.ketchikanarts.org//NONSGML kigkonsult.se iCalcreator 2.30.10/
 /
CALSCALE:GREGORIAN
METHOD:PUBLISH
UID:a866e70e-cf97-4355-99c3-78bc7248c30f
X-WR-CALDESC:Fiber Artists Ann Carlson\, Sherry Henrickson\, Jackie Keizer\
 , and Deb Turnbull share a creative vision and celebrate their friendship 
 with individual and collaborative fiber creations that celebrate the diver
 sity of the sea and their friendship.
X-WR-RELCALID:bb4d4a1a38d4967c24f3b530ac1e3ee7
X-WR-TIMEZONE:America/Anchorage
BEGIN:VTIMEZONE
TZID:America/Anchorage
BEGIN:STANDARD
TZNAME:AKST
DTSTART:20201101T020000
TZOFFSETFROM:-0800
TZOFFSETTO:-0900
RDATE:20211107T020000
RDATE:20221106T020000
END:STANDARD
BEGIN:DAYLIGHT
TZNAME:AKDT
DTSTART:20210314T020000
TZOFFSETFROM:-0900
TZOFFSETTO:-0800
RDATE:20220313T020000
END:DAYLIGHT
END:VTIMEZONE
BEGIN:VEVENT
UID:1184868f-f3b0-464f-9b30-6c951843bb0c
DTSTAMP:20260421T032115Z
DESCRIPTION:Fiber Artists Ann Carlson\, Sherry Henrickson\, Jackie Keizer\,
  and Deb Turnbull share a creative vision and celebrate their friendship w
 ith individual and collaborative fiber creations that celebrate the divers
 ity of the sea and their friendship.
DTSTART;TZID=America/Anchorage:20210510T090000
DTEND;TZID=America/Anchorage:20210604T190000
LOCATION:
SUMMARY:'Act III: Tides of Transition' a group exhibit with Ann Carlson\, S
 herry Henrickson\, Jackie Keizer\, and Deb Turnbull
END:VEVENT
END:VCALENDAR
