BEGIN:VCALENDAR
VERSION:2.0
PRODID:-//www.ketchikanarts.org//NONSGML kigkonsult.se iCalcreator 2.30.10/
 /
CALSCALE:GREGORIAN
METHOD:PUBLISH
UID:5d84d066-26fa-4429-ab55-8bf25e47c862
X-WR-CALDESC:Live Stream Only! Featuring the youngest dancers!
X-WR-RELCALID:80a5911bd9ad6c275efc926a274c4692
X-WR-TIMEZONE:America/Anchorage
BEGIN:VTIMEZONE
TZID:America/Anchorage
BEGIN:STANDARD
TZNAME:AKST
DTSTART:20201101T020000
TZOFFSETFROM:-0800
TZOFFSETTO:-0900
RDATE:20211107T020000
RDATE:20221106T020000
END:STANDARD
BEGIN:DAYLIGHT
TZNAME:AKDT
DTSTART:20210314T020000
TZOFFSETFROM:-0900
TZOFFSETTO:-0800
RDATE:20220313T020000
END:DAYLIGHT
END:VTIMEZONE
BEGIN:VEVENT
UID:8c00306e-fef0-46bb-be94-683979f11ff8
DTSTAMP:20260421T045523Z
DESCRIPTION:Live Stream Only! Featuring the youngest dancers!
DTSTART;TZID=America/Anchorage:20210508T140000
DTEND;TZID=America/Anchorage:20210508T153000
LOCATION:
SUMMARY:Spring Gala - The Four Seasons
END:VEVENT
END:VCALENDAR
