BEGIN:VCALENDAR
VERSION:2.0
PRODID:-//www.ketchikanarts.org//NONSGML kigkonsult.se iCalcreator 2.30.10/
 /
CALSCALE:GREGORIAN
METHOD:PUBLISH
UID:f631dc45-a10f-47e4-914f-cd4329942c51
X-WR-CALDESC:Live Stream Only!
X-WR-RELCALID:6689d59b0de67de4ad4ec3ce413ddc5b
X-WR-TIMEZONE:America/Anchorage
BEGIN:VTIMEZONE
TZID:America/Anchorage
BEGIN:STANDARD
TZNAME:AKST
DTSTART:20201101T020000
TZOFFSETFROM:-0800
TZOFFSETTO:-0900
RDATE:20211107T020000
RDATE:20221106T020000
END:STANDARD
BEGIN:DAYLIGHT
TZNAME:AKDT
DTSTART:20210314T020000
TZOFFSETFROM:-0900
TZOFFSETTO:-0800
RDATE:20220313T020000
END:DAYLIGHT
END:VTIMEZONE
BEGIN:VEVENT
UID:0ed65e6b-2cdc-48a7-a655-7cb9338a374f
DTSTAMP:20260421T045541Z
DESCRIPTION:Live Stream Only!
DTSTART;TZID=America/Anchorage:20210508T190000
DTEND;TZID=America/Anchorage:20210508T203000
LOCATION:
SUMMARY:Spring Gala - The Four Seasons
END:VEVENT
END:VCALENDAR
