BEGIN:VCALENDAR
VERSION:2.0
PRODID:-//www.ketchikanarts.org//NONSGML kigkonsult.se iCalcreator 2.30.10/
 /
CALSCALE:GREGORIAN
METHOD:PUBLISH
UID:d5362045-b2c0-47b8-a982-f585795233af
X-WR-CALDESC:Live stream!!!
X-WR-RELCALID:64a023d8e3693d295c323cfd0e6e3206
X-WR-TIMEZONE:America/Anchorage
BEGIN:VTIMEZONE
TZID:America/Anchorage
BEGIN:STANDARD
TZNAME:AKST
DTSTART:20201101T020000
TZOFFSETFROM:-0800
TZOFFSETTO:-0900
RDATE:20211107T020000
RDATE:20221106T020000
END:STANDARD
BEGIN:DAYLIGHT
TZNAME:AKDT
DTSTART:20210314T020000
TZOFFSETFROM:-0900
TZOFFSETTO:-0800
RDATE:20220313T020000
END:DAYLIGHT
END:VTIMEZONE
BEGIN:VEVENT
UID:2600ac44-e8a2-40b9-88a1-e46364b18631
DTSTAMP:20260421T045523Z
DESCRIPTION:Live stream!!!
DTSTART;TZID=America/Anchorage:20210507T190000
DTEND;TZID=America/Anchorage:20210507T203000
LOCATION:
SUMMARY:Spring Gala - The Four Seasons
END:VEVENT
END:VCALENDAR
