BEGIN:VCALENDAR
VERSION:2.0
PRODID:-//www.ketchikanarts.org//NONSGML kigkonsult.se iCalcreator 2.30.10/
 /
CALSCALE:GREGORIAN
METHOD:PUBLISH
UID:e07eb82b-8121-45cc-a901-9adec6485f7a
X-WR-CALDESC:The Ketchikan Indian Community Social Services Department and 
 Women in Safe Homes  Sexual Assault Awareness Month\, May 1st at their Art
  Walk / Open Mic Night! Anyone survivor or ally can join. Share awareness 
 and support Sexual assault survivors are not alone.\n
X-WR-RELCALID:def68dcda50f850253a07585da5bda10
X-WR-TIMEZONE:America/Anchorage
BEGIN:VTIMEZONE
TZID:America/Anchorage
BEGIN:STANDARD
TZNAME:AKST
DTSTART:20201101T020000
TZOFFSETFROM:-0800
TZOFFSETTO:-0900
RDATE:20211107T020000
END:STANDARD
BEGIN:DAYLIGHT
TZNAME:AKDT
DTSTART:20210314T020000
TZOFFSETFROM:-0900
TZOFFSETTO:-0800
RDATE:20220313T020000
END:DAYLIGHT
END:VTIMEZONE
BEGIN:VEVENT
UID:80b1c331-14ec-40fa-b093-b14c465604ba
DTSTAMP:20260421T045831Z
DESCRIPTION:The Ketchikan Indian Community Social Services Department and W
 omen in Safe Homes  Sexual Assault Awareness Month\, May 1st at their Art 
 Walk / Open Mic Night! Anyone survivor or ally can join. Share awareness a
 nd support Sexual assault survivors are not alone.\n
DTSTART;TZID=America/Anchorage:20210501T170000
DTEND;TZID=America/Anchorage:20210501T190000
LOCATION:TBA
SUMMARY:Sexual Assault Awareness MonthArt Walk and Open Mic
END:VEVENT
END:VCALENDAR
