BEGIN:VCALENDAR
VERSION:2.0
PRODID:-//www.ketchikanarts.org//NONSGML kigkonsult.se iCalcreator 2.30.10/
 /
CALSCALE:GREGORIAN
METHOD:PUBLISH
UID:220fa964-e6fa-40b1-aef1-1e6ab1db7dad
X-WR-CALDESC:REQUEST FOR PROPOSALS: Illustrators\nSHI is seeking proposals 
 from artists to create illustrations for Alaska Native children’s books ta
 rgeted to children ages 5 and under. \n\nThe books are part of SHI’s award
 -winning Baby Raven Reads program\, which promotes pre-literacy\, language
  development\, and school readiness for Alaska Native families with childr
 en up to age 5. Twenty-nine books have already been published through the 
 program.\n\nDeadline  April 30\, 2021. Selected artists must be available 
 to a large time commitment to complete new illustrations. The next project
  will take place May-August 2021.
X-WR-RELCALID:65daad54a3bf26a9d55159bee630cc92
X-WR-TIMEZONE:America/Anchorage
BEGIN:VTIMEZONE
TZID:America/Anchorage
BEGIN:STANDARD
TZNAME:AKST
DTSTART:20201101T020000
TZOFFSETFROM:-0800
TZOFFSETTO:-0900
RDATE:20211107T020000
END:STANDARD
BEGIN:DAYLIGHT
TZNAME:AKDT
DTSTART:20210314T020000
TZOFFSETFROM:-0900
TZOFFSETTO:-0800
RDATE:20220313T020000
END:DAYLIGHT
END:VTIMEZONE
BEGIN:VEVENT
UID:7a8baf97-eb4e-4b4b-8f5a-0f264d2de277
DTSTAMP:20260421T061735Z
DESCRIPTION:REQUEST FOR PROPOSALS: Illustrators\nSHI is seeking proposals f
 rom artists to create illustrations for Alaska Native children’s books tar
 geted to children ages 5 and under. \n\nThe books are part of SHI’s award-
 winning Baby Raven Reads program\, which promotes pre-literacy\, language 
 development\, and school readiness for Alaska Native families with childre
 n up to age 5. Twenty-nine books have already been published through the p
 rogram.\n\nDeadline  April 30\, 2021. Selected artists must be available t
 o a large time commitment to complete new illustrations. The next project 
 will take place May-August 2021.
DTSTART;TZID=America/Anchorage:20210430T063000
DTEND;TZID=America/Anchorage:20210430T170000
LOCATION:
SUMMARY:Children's Book Illustrator
END:VEVENT
END:VCALENDAR
