BEGIN:VCALENDAR
VERSION:2.0
PRODID:-//www.ketchikanarts.org//NONSGML kigkonsult.se iCalcreator 2.30.10/
 /
CALSCALE:GREGORIAN
METHOD:PUBLISH
UID:17ff2e58-4c17-4fa5-b766-cf02e9402297
X-WR-CALDESC:The Ketchikan Indian Community Social Services Department and 
 Women in Safe Homes are seeking artists to donate\, loan artwork for Sexua
 l Assault Awareness Month to be displayed May 1st at their Art Walk / Open
  Mic Night! Anyone survivor or ally can donate a piece of art. Art submiss
 ions can be given to KIC Social Services Department at 201 Deermount Stree
 t by Thursday\, April 29th at 4:00 pm\nArtists may pick up artwork Monday 
 Maay 3rd- Friday\, May 7th
X-WR-RELCALID:71c42cf6fdf8f4d37bcfb4931cc40bfd
X-WR-TIMEZONE:America/Anchorage
BEGIN:VTIMEZONE
TZID:America/Anchorage
BEGIN:STANDARD
TZNAME:AKST
DTSTART:20201101T020000
TZOFFSETFROM:-0800
TZOFFSETTO:-0900
RDATE:20211107T020000
END:STANDARD
BEGIN:DAYLIGHT
TZNAME:AKDT
DTSTART:20210314T020000
TZOFFSETFROM:-0900
TZOFFSETTO:-0800
RDATE:20220313T020000
END:DAYLIGHT
END:VTIMEZONE
BEGIN:VEVENT
UID:944b3578-d238-4231-a85b-acb5e1c3ceac
DTSTAMP:20260421T061922Z
DESCRIPTION:The Ketchikan Indian Community Social Services Department and W
 omen in Safe Homes are seeking artists to donate\, loan artwork for Sexual
  Assault Awareness Month to be displayed May 1st at their Art Walk / Open 
 Mic Night! Anyone survivor or ally can donate a piece of art. Art submissi
 ons can be given to KIC Social Services Department at 201 Deermount Street
  by Thursday\, April 29th at 4:00 pm\nArtists may pick up artwork Monday M
 aay 3rd- Friday\, May 7th
DTSTART;TZID=America/Anchorage:20210429T103000
DTEND;TZID=America/Anchorage:20210429T160000
LOCATION:
SUMMARY:Calling all Artists to submit work for display Sexual Assault Aware
 ness Month
END:VEVENT
END:VCALENDAR
