BEGIN:VCALENDAR
VERSION:2.0
PRODID:-//www.ketchikanarts.org//NONSGML kigkonsult.se iCalcreator 2.30.10/
 /
CALSCALE:GREGORIAN
METHOD:PUBLISH
UID:69d7079c-2898-4197-b836-87b014e8366d
X-WR-CALDESC:Plankton: Why is it important? with professor Gary Freitag\, L
 ive Microsope views!!!! This event will be live-streamed via the UAS Ketch
 ikan Campus Library Facebook page
X-WR-RELCALID:1147c844f866b28637ea04cd47b4109b
X-WR-TIMEZONE:America/Anchorage
BEGIN:VTIMEZONE
TZID:America/Anchorage
BEGIN:STANDARD
TZNAME:AKST
DTSTART:20201101T020000
TZOFFSETFROM:-0800
TZOFFSETTO:-0900
RDATE:20211107T020000
END:STANDARD
BEGIN:DAYLIGHT
TZNAME:AKDT
DTSTART:20210314T020000
TZOFFSETFROM:-0900
TZOFFSETTO:-0800
RDATE:20220313T020000
END:DAYLIGHT
END:VTIMEZONE
BEGIN:VEVENT
UID:d8f56048-74ed-4c03-a1e9-0100a60b107f
DTSTAMP:20260421T061609Z
DESCRIPTION:Plankton: Why is it important? with professor Gary Freitag\, Li
 ve Microsope views!!!! This event will be live-streamed via the UAS Ketchi
 kan Campus Library Facebook page
DTSTART;TZID=America/Anchorage:20210422T180000
DTEND;TZID=America/Anchorage:20210422T190000
LOCATION:https://www.facebook.com/KetchikanCampusLibrary
SUMMARY:Ask UAS - Plankton Why is it Important?
END:VEVENT
END:VCALENDAR
