BEGIN:VCALENDAR
VERSION:2.0
PRODID:-//www.ketchikanarts.org//NONSGML kigkonsult.se iCalcreator 2.30.10/
 /
CALSCALE:GREGORIAN
METHOD:PUBLISH
UID:08f9a9f7-aba6-4dda-884e-783c9477d21d
X-WR-CALDESC:
X-WR-RELCALID:e46444ff2ddcf8c542acaddf4f522ae6
X-WR-TIMEZONE:America/Anchorage
BEGIN:VTIMEZONE
TZID:America/Anchorage
BEGIN:STANDARD
TZNAME:AKST
DTSTART:20201101T020000
TZOFFSETFROM:-0800
TZOFFSETTO:-0900
RDATE:20211107T020000
END:STANDARD
BEGIN:DAYLIGHT
TZNAME:AKDT
DTSTART:20210314T020000
TZOFFSETFROM:-0900
TZOFFSETTO:-0800
RDATE:20220313T020000
END:DAYLIGHT
END:VTIMEZONE
BEGIN:VEVENT
UID:743d02d2-b926-47d9-8d3a-2a314f866cbd
DTSTAMP:20260421T061713Z
DESCRIPTION:
DTSTART;TZID=America/Anchorage:20210419T000000
DTEND;TZID=America/Anchorage:20210419T235900
LOCATION:
SUMMARY:KAAHC Offices Closed
END:VEVENT
END:VCALENDAR
