BEGIN:VCALENDAR
VERSION:2.0
PRODID:-//www.ketchikanarts.org//NONSGML kigkonsult.se iCalcreator 2.30.10/
 /
CALSCALE:GREGORIAN
METHOD:PUBLISH
UID:77848860-214b-42bb-aaab-a45811789c13
X-WR-CALDESC:Open Mic\nFeaturing the talents of Cullen McCormick \n$5 Cover
 \, Must be 21 years of age or accompanied by a parent or guardian.\n
X-WR-RELCALID:3a8ba3c29f22d7fcf076bfd4ea243233
X-WR-TIMEZONE:America/Anchorage
BEGIN:VTIMEZONE
TZID:America/Anchorage
BEGIN:STANDARD
TZNAME:AKST
DTSTART:20201101T020000
TZOFFSETFROM:-0800
TZOFFSETTO:-0900
RDATE:20211107T020000
END:STANDARD
BEGIN:DAYLIGHT
TZNAME:AKDT
DTSTART:20210314T020000
TZOFFSETFROM:-0900
TZOFFSETTO:-0800
RDATE:20220313T020000
END:DAYLIGHT
END:VTIMEZONE
BEGIN:VEVENT
UID:aa5fd912-1b1a-4a10-8c01-67aebc4d813c
DTSTAMP:20260421T062000Z
DESCRIPTION:Open Mic\nFeaturing the talents of Cullen McCormick \n$5 Cover\
 , Must be 21 years of age or accompanied by a parent or guardian.\n
DTSTART;TZID=America/Anchorage:20210418T180000
DTEND;TZID=America/Anchorage:20210418T210000
LOCATION:Creek Street Cabaret
SUMMARY:Open Mic with Joe Williams IV
END:VEVENT
END:VCALENDAR
