BEGIN:VCALENDAR
VERSION:2.0
PRODID:-//www.ketchikanarts.org//NONSGML kigkonsult.se iCalcreator 2.30.10/
 /
CALSCALE:GREGORIAN
METHOD:PUBLISH
UID:6aea5660-727d-4523-9709-f8ff743c75a9
X-WR-CALDESC:Ketchikan Area Arts and Humanities Council presents 'Mixed Up'
  the 35th Annual Wearable Art Show while taking a scenic tour of the Tonga
 ss Narrows with Allen Marine. Limited Capacity! Tickets $45 per person.\nT
 ickets available soon!!!!
X-WR-RELCALID:1904aeb7c7e9e8750a153c7b42985d7e
X-WR-TIMEZONE:America/Anchorage
BEGIN:VTIMEZONE
TZID:America/Anchorage
BEGIN:STANDARD
TZNAME:AKST
DTSTART:20201101T020000
TZOFFSETFROM:-0800
TZOFFSETTO:-0900
RDATE:20211107T020000
END:STANDARD
BEGIN:DAYLIGHT
TZNAME:AKDT
DTSTART:20210314T020000
TZOFFSETFROM:-0900
TZOFFSETTO:-0800
RDATE:20220313T020000
END:DAYLIGHT
END:VTIMEZONE
BEGIN:VEVENT
UID:3623bca2-2de1-4278-8252-4204ad65de72
DTSTAMP:20260421T063237Z
DESCRIPTION:Ketchikan Area Arts and Humanities Council presents 'Mixed Up' 
 the 35th Annual Wearable Art Show while taking a scenic tour of the Tongas
 s Narrows with Allen Marine. Limited Capacity! Tickets $45 per person.\nTi
 ckets available soon!!!!
DTSTART;TZID=America/Anchorage:20210418T140000
DTEND;TZID=America/Anchorage:20210418T153000
LOCATION:
SUMMARY:'Mixed Up' the 35th Annual Wearable Art Show On a Boat
END:VEVENT
END:VCALENDAR
