BEGIN:VCALENDAR
VERSION:2.0
PRODID:-//www.ketchikanarts.org//NONSGML kigkonsult.se iCalcreator 2.30.10/
 /
CALSCALE:GREGORIAN
METHOD:PUBLISH
UID:b4b5c58f-57cf-4c07-98d0-e1b9978b1004
X-WR-CALDESC:Fun at the Creek Street Cabaret with live music!
X-WR-RELCALID:d52a5c8341a062d866c670ec25903a5b
X-WR-TIMEZONE:America/Anchorage
BEGIN:VTIMEZONE
TZID:America/Anchorage
BEGIN:STANDARD
TZNAME:AKST
DTSTART:20201101T020000
TZOFFSETFROM:-0800
TZOFFSETTO:-0900
RDATE:20211107T020000
END:STANDARD
BEGIN:DAYLIGHT
TZNAME:AKDT
DTSTART:20210314T020000
TZOFFSETFROM:-0900
TZOFFSETTO:-0800
RDATE:20220313T020000
END:DAYLIGHT
END:VTIMEZONE
BEGIN:VEVENT
UID:1449141e-a51d-4abd-9a87-53413a432d7b
DTSTAMP:20260421T061607Z
DESCRIPTION:Fun at the Creek Street Cabaret with live music!
DTSTART;TZID=America/Anchorage:20210417T190000
DTEND;TZID=America/Anchorage:20210417T210000
LOCATION:Creek Street Cabaret
SUMMARY:Kristianna's Birthday Bash
END:VEVENT
END:VCALENDAR
