BEGIN:VCALENDAR
VERSION:2.0
PRODID:-//www.ketchikanarts.org//NONSGML kigkonsult.se iCalcreator 2.30.10/
 /
CALSCALE:GREGORIAN
METHOD:PUBLISH
UID:77b6a99c-37f2-4fdd-a8fc-caa76bcb06e9
X-WR-CALDESC:'Mixed Up' the 35th Annual Wearable Art Show' at the Sunny Poi
 nt Conference Center\nDinner and the 'Mixed Up' Wearable Artists in an int
 imate Performance\nLimited Capacity! Tickets $55 each. Tickets available s
 oon
X-WR-RELCALID:e2a8ba0c18cc4e8515e4442ae411c047
X-WR-TIMEZONE:America/Anchorage
BEGIN:VTIMEZONE
TZID:America/Anchorage
BEGIN:STANDARD
TZNAME:AKST
DTSTART:20201101T020000
TZOFFSETFROM:-0800
TZOFFSETTO:-0900
RDATE:20211107T020000
END:STANDARD
BEGIN:DAYLIGHT
TZNAME:AKDT
DTSTART:20210314T020000
TZOFFSETFROM:-0900
TZOFFSETTO:-0800
RDATE:20220313T020000
END:DAYLIGHT
END:VTIMEZONE
BEGIN:VEVENT
UID:c84a9a8b-c45c-49ac-94d5-40a1b288a513
DTSTAMP:20260421T063816Z
DESCRIPTION:'Mixed Up' the 35th Annual Wearable Art Show' at the Sunny Poin
 t Conference Center\nDinner and the 'Mixed Up' Wearable Artists in an inti
 mate Performance\nLimited Capacity! Tickets $55 each. Tickets available so
 on
DTSTART;TZID=America/Anchorage:20210417T183000
DTEND;TZID=America/Anchorage:20210417T210000
LOCATION:
SUMMARY:'Mixed Up' the 35th Annual Wearable Art Show
END:VEVENT
END:VCALENDAR
