BEGIN:VCALENDAR
VERSION:2.0
PRODID:-//www.ketchikanarts.org//NONSGML kigkonsult.se iCalcreator 2.30.10/
 /
CALSCALE:GREGORIAN
METHOD:PUBLISH
UID:30d02fa1-bda0-491e-bff8-da109f47f79e
X-WR-CALDESC:Release of “Mixed Up” the 35th Annual Wearable Art Show FILM\,
  on-demand There will be individual tickets available for $25 and Family/h
 ousehold tickets available for $45 Each ticket will be available for 48 ho
 urs. The film will be available for viewing from April 17 – May 2.\nTicket
 s available soon!!!
X-WR-RELCALID:7bf21d43bdb866f4dd7217b8c4d99a08
X-WR-TIMEZONE:America/Anchorage
BEGIN:VTIMEZONE
TZID:America/Anchorage
BEGIN:STANDARD
TZNAME:AKST
DTSTART:20201101T020000
TZOFFSETFROM:-0800
TZOFFSETTO:-0900
RDATE:20211107T020000
END:STANDARD
BEGIN:DAYLIGHT
TZNAME:AKDT
DTSTART:20210314T020000
TZOFFSETFROM:-0900
TZOFFSETTO:-0800
RDATE:20220313T020000
END:DAYLIGHT
END:VTIMEZONE
BEGIN:VEVENT
UID:8f44ae1a-fcf1-4ed0-8632-77b7b31cdce7
DTSTAMP:20260421T050221Z
DESCRIPTION:Release of “Mixed Up” the 35th Annual Wearable Art Show FILM\, 
 on-demand There will be individual tickets available for $25 and Family/ho
 usehold tickets available for $45 Each ticket will be available for 48 hou
 rs. The film will be available for viewing from April 17 – May 2.\nTickets
  available soon!!!
DTSTART;TZID=America/Anchorage:20210417T190000
DTEND;TZID=America/Anchorage:20210531T190000
LOCATION:On-Demand
SUMMARY:'Mixed Up' the 35th Annual Wearable Art Show FILM
END:VEVENT
END:VCALENDAR
