BEGIN:VCALENDAR
VERSION:2.0
PRODID:-//www.ketchikanarts.org//NONSGML kigkonsult.se iCalcreator 2.30.10/
 /
CALSCALE:GREGORIAN
METHOD:PUBLISH
UID:56be8512-a296-4444-8ac6-7ae9a79e7fb7
X-WR-CALDESC:Ketchikan Area Arts and Humanities Council presents the Wearab
 le Art Walk!!\nSimilar to Art Walks of the past downtown arts businesses w
 ill be open from 5 - 8!\nPick up a map with locations to view the Wearable
  Art from 'MIxed UP' the 35th Wearable Art Show in Downtown Windows!\nFree
  and open to the public
X-WR-RELCALID:7bffa0d3b2a799ae6b2cd5f3099db11a
X-WR-TIMEZONE:America/Anchorage
BEGIN:VTIMEZONE
TZID:America/Anchorage
BEGIN:STANDARD
TZNAME:AKST
DTSTART:20201101T020000
TZOFFSETFROM:-0800
TZOFFSETTO:-0900
RDATE:20211107T020000
END:STANDARD
BEGIN:DAYLIGHT
TZNAME:AKDT
DTSTART:20210314T020000
TZOFFSETFROM:-0900
TZOFFSETTO:-0800
RDATE:20220313T020000
END:DAYLIGHT
END:VTIMEZONE
BEGIN:VEVENT
UID:856c9c9f-f780-44b5-bac7-0b2d7e49cd0f
DTSTAMP:20260421T061607Z
DESCRIPTION:Ketchikan Area Arts and Humanities Council presents the Wearabl
 e Art Walk!!\nSimilar to Art Walks of the past downtown arts businesses wi
 ll be open from 5 - 8!\nPick up a map with locations to view the Wearable 
 Art from 'MIxed UP' the 35th Wearable Art Show in Downtown Windows!\nFree 
 and open to the public
DTSTART;TZID=America/Anchorage:20210416T170000
DTEND;TZID=America/Anchorage:20210416T200000
LOCATION:Downtown Ketchikan
SUMMARY:Wearable Art Walk
END:VEVENT
END:VCALENDAR
