BEGIN:VCALENDAR
VERSION:2.0
PRODID:-//www.ketchikanarts.org//NONSGML kigkonsult.se iCalcreator 2.30.10/
 /
CALSCALE:GREGORIAN
METHOD:PUBLISH
UID:23eac78d-d7dc-4bfd-8473-eb1935fa472e
X-WR-CALDESC:Clinics are available to anyone age 18 or above through pre-sc
 heduled appointments made online or by phone. To schedule an appointment b
 y phone\, call the Alaska COVID Helpline at 907-646-3322. The Helpline is 
 now staffed Monday-Friday from 9 a.m. - 6:30 p.m. and 9 a.m. - 4:30 p.m. o
 n weekends. Appointments will be filled on a first-come-first serve basis.
  To schedule an appointment online\, go to http://covidvax.alaska.gov\nFre
 e \n10:00 am - 6:00 pm Ted Ferry Civic Center
X-WR-RELCALID:db4c0905928e310d9317baa8f80c34ab
X-WR-TIMEZONE:America/Anchorage
BEGIN:VTIMEZONE
TZID:America/Anchorage
BEGIN:STANDARD
TZNAME:AKST
DTSTART:20201101T020000
TZOFFSETFROM:-0800
TZOFFSETTO:-0900
RDATE:20211107T020000
END:STANDARD
BEGIN:DAYLIGHT
TZNAME:AKDT
DTSTART:20210314T020000
TZOFFSETFROM:-0900
TZOFFSETTO:-0800
RDATE:20220313T020000
END:DAYLIGHT
END:VTIMEZONE
BEGIN:VEVENT
UID:b9080405-c26e-4723-a73c-5657d092daaa
DTSTAMP:20260421T061559Z
DESCRIPTION:Clinics are available to anyone age 18 or above through pre-sch
 eduled appointments made online or by phone. To schedule an appointment by
  phone\, call the Alaska COVID Helpline at 907-646-3322. The Helpline is n
 ow staffed Monday-Friday from 9 a.m. - 6:30 p.m. and 9 a.m. - 4:30 p.m. on
  weekends. Appointments will be filled on a first-come-first serve basis. 
 To schedule an appointment online\, go to http://covidvax.alaska.gov\nFree
  \n10:00 am - 6:00 pm Ted Ferry Civic Center
DTSTART;TZID=America/Anchorage:20210413T100000
DTEND;TZID=America/Anchorage:20210413T180000
LOCATION:
SUMMARY:Vaccination Clinic
END:VEVENT
END:VCALENDAR
