BEGIN:VCALENDAR
VERSION:2.0
PRODID:-//www.ketchikanarts.org//NONSGML kigkonsult.se iCalcreator 2.30.10/
 /
CALSCALE:GREGORIAN
METHOD:PUBLISH
UID:107f3462-8852-4046-85ed-e8c031d452fd
X-WR-CALDESC:First City Players Auditions for their Production of 'Your a G
 ood Man Charlie Brown' They are looking for 6 adults!  Contact them for an
  audition time!
X-WR-RELCALID:d9748138c5c676bd3120baf6dacc1de8
X-WR-TIMEZONE:America/Anchorage
BEGIN:VTIMEZONE
TZID:America/Anchorage
BEGIN:STANDARD
TZNAME:AKST
DTSTART:20201101T020000
TZOFFSETFROM:-0800
TZOFFSETTO:-0900
RDATE:20211107T020000
END:STANDARD
BEGIN:DAYLIGHT
TZNAME:AKDT
DTSTART:20210314T020000
TZOFFSETFROM:-0900
TZOFFSETTO:-0800
RDATE:20220313T020000
END:DAYLIGHT
END:VTIMEZONE
BEGIN:VEVENT
UID:05fc7494-84c3-4133-b0c7-762815030eb3
DTSTAMP:20260421T062027Z
DESCRIPTION:First City Players Auditions for their Production of 'Your a Go
 od Man Charlie Brown' They are looking for 6 adults!  Contact them for an 
 audition time!
DTSTART;TZID=America/Anchorage:20210413T000000
DTEND;TZID=America/Anchorage:20210413T235900
LOCATION:Kayhi Auditorium
SUMMARY:'Your a Good Man Charlie Brown'
END:VEVENT
END:VCALENDAR
