BEGIN:VCALENDAR
VERSION:2.0
PRODID:-//www.ketchikanarts.org//NONSGML kigkonsult.se iCalcreator 2.30.10/
 /
CALSCALE:GREGORIAN
METHOD:PUBLISH
UID:7449f728-d154-4095-99ef-a244ee762d87
X-WR-CALDESC:Live music from Dave Rubin\, Hannah Kerick\, and Chazz Gist\n
X-WR-RELCALID:e8f4c095a7c7d65aead2205cd9f1187e
X-WR-TIMEZONE:America/Anchorage
BEGIN:VTIMEZONE
TZID:America/Anchorage
BEGIN:STANDARD
TZNAME:AKST
DTSTART:20201101T020000
TZOFFSETFROM:-0800
TZOFFSETTO:-0900
RDATE:20211107T020000
END:STANDARD
BEGIN:DAYLIGHT
TZNAME:AKDT
DTSTART:20210314T020000
TZOFFSETFROM:-0900
TZOFFSETTO:-0800
RDATE:20220313T020000
END:DAYLIGHT
END:VTIMEZONE
BEGIN:VEVENT
UID:587f6da7-c367-4902-9161-04af1e81fcd0
DTSTAMP:20260421T061712Z
DESCRIPTION:Live music from Dave Rubin\, Hannah Kerick\, and Chazz Gist\n
DTSTART;TZID=America/Anchorage:20210411T130000
DTEND;TZID=America/Anchorage:20210411T150000
LOCATION:The New York Cafe
SUMMARY:Dave\, Hannah\, and Chazz
END:VEVENT
END:VCALENDAR
