BEGIN:VCALENDAR
VERSION:2.0
PRODID:-//www.ketchikanarts.org//NONSGML kigkonsult.se iCalcreator 2.30.10/
 /
CALSCALE:GREGORIAN
METHOD:PUBLISH
UID:1562a3d6-5e0b-4414-bd19-8e0b8f8f2ca9
X-WR-CALDESC:Open Mic\nFeaturing the talents of Cullen McCormick \n$5 Cover
 \, Must be 21 years of age or accompanied by a parent or guardian.\n
X-WR-RELCALID:abebda3eb05686f28564aa73bf4ef868
X-WR-TIMEZONE:America/Anchorage
BEGIN:VTIMEZONE
TZID:America/Anchorage
BEGIN:STANDARD
TZNAME:AKST
DTSTART:20201101T020000
TZOFFSETFROM:-0800
TZOFFSETTO:-0900
RDATE:20211107T020000
END:STANDARD
BEGIN:DAYLIGHT
TZNAME:AKDT
DTSTART:20210314T020000
TZOFFSETFROM:-0900
TZOFFSETTO:-0800
RDATE:20220313T020000
END:DAYLIGHT
END:VTIMEZONE
BEGIN:VEVENT
UID:b5f5ef4a-ddef-4afa-9a90-f041173aaae3
DTSTAMP:20260421T062039Z
DESCRIPTION:Open Mic\nFeaturing the talents of Cullen McCormick \n$5 Cover\
 , Must be 21 years of age or accompanied by a parent or guardian.\n
DTSTART;TZID=America/Anchorage:20210411T180000
DTEND;TZID=America/Anchorage:20210411T210000
LOCATION:Creek Street Cabaret
SUMMARY:Open Mic with Joe Williams IV
END:VEVENT
END:VCALENDAR
