BEGIN:VCALENDAR
VERSION:2.0
PRODID:-//www.ketchikanarts.org//NONSGML kigkonsult.se iCalcreator 2.30.10/
 /
CALSCALE:GREGORIAN
METHOD:PUBLISH
UID:73147bb3-c596-4c27-89e9-07e286454e0e
X-WR-CALDESC:Cape Fox Springtime Maker’s Market! Shop local artists and ven
 dors!  Adults only Free
X-WR-RELCALID:1fecaa922dcd9bbcc5e285cf96b869bf
X-WR-TIMEZONE:America/Anchorage
BEGIN:VTIMEZONE
TZID:America/Anchorage
BEGIN:STANDARD
TZNAME:AKST
DTSTART:20201101T020000
TZOFFSETFROM:-0800
TZOFFSETTO:-0900
RDATE:20211107T020000
END:STANDARD
BEGIN:DAYLIGHT
TZNAME:AKDT
DTSTART:20210314T020000
TZOFFSETFROM:-0900
TZOFFSETTO:-0800
RDATE:20220313T020000
END:DAYLIGHT
END:VTIMEZONE
BEGIN:VEVENT
UID:628f4d6f-5b1f-434a-8f3b-65804fae7e75
DTSTAMP:20260421T061600Z
DESCRIPTION:Cape Fox Springtime Maker’s Market! Shop local artists and vend
 ors!  Adults only Free
DTSTART;TZID=America/Anchorage:20210410T100000
DTEND;TZID=America/Anchorage:20210411T053000
LOCATION:
SUMMARY:Cape Fox Makers Market
END:VEVENT
END:VCALENDAR
