BEGIN:VCALENDAR
VERSION:2.0
PRODID:-//www.ketchikanarts.org//NONSGML kigkonsult.se iCalcreator 2.30.10/
 /
CALSCALE:GREGORIAN
METHOD:PUBLISH
UID:ab821256-c630-41a7-a745-5752466f1638
X-WR-CALDESC:
X-WR-RELCALID:ffc725540fed17bfded42a4c3e086777
X-WR-TIMEZONE:America/Anchorage
BEGIN:VTIMEZONE
TZID:America/Anchorage
BEGIN:STANDARD
TZNAME:AKST
DTSTART:20201101T020000
TZOFFSETFROM:-0800
TZOFFSETTO:-0900
RDATE:20211107T020000
END:STANDARD
BEGIN:DAYLIGHT
TZNAME:AKDT
DTSTART:20210314T020000
TZOFFSETFROM:-0900
TZOFFSETTO:-0800
RDATE:20220313T020000
END:DAYLIGHT
END:VTIMEZONE
BEGIN:VEVENT
UID:e7a999e7-a15e-4768-9b2f-08e6172c6a50
DTSTAMP:20260421T062804Z
DESCRIPTION:
DTSTART;TZID=America/Anchorage:20210410T150000
DTEND;TZID=America/Anchorage:20210410T160000
LOCATION:
SUMMARY:Mary Poppins Jr.
END:VEVENT
END:VCALENDAR
