BEGIN:VCALENDAR
VERSION:2.0
PRODID:-//www.ketchikanarts.org//NONSGML kigkonsult.se iCalcreator 2.30.10/
 /
CALSCALE:GREGORIAN
METHOD:PUBLISH
UID:eb700af0-0a7b-4c93-98f2-cc232c1060b8
X-WR-CALDESC:Cape Fox Springtime Maker’s Market! Shop local artists and ven
 dors! Live music\, cocktails\, appetizers\, and shopping\, Adults only $5:
 00
X-WR-RELCALID:ad42c060c58329e653f001afb51315ec
X-WR-TIMEZONE:America/Anchorage
BEGIN:VTIMEZONE
TZID:America/Anchorage
BEGIN:STANDARD
TZNAME:AKST
DTSTART:20201101T020000
TZOFFSETFROM:-0800
TZOFFSETTO:-0900
RDATE:20211107T020000
END:STANDARD
BEGIN:DAYLIGHT
TZNAME:AKDT
DTSTART:20210314T020000
TZOFFSETFROM:-0900
TZOFFSETTO:-0800
RDATE:20220313T020000
END:DAYLIGHT
END:VTIMEZONE
BEGIN:VEVENT
UID:1fe245e0-1d7e-435f-be8d-a20c59b0a7f3
DTSTAMP:20260421T061534Z
DESCRIPTION:Cape Fox Springtime Maker’s Market! Shop local artists and vend
 ors! Live music\, cocktails\, appetizers\, and shopping\, Adults only $5:0
 0
DTSTART;TZID=America/Anchorage:20210409T170000
DTEND;TZID=America/Anchorage:20210409T200000
LOCATION:
SUMMARY:Cape Fox Makers Market
END:VEVENT
END:VCALENDAR
