BEGIN:VCALENDAR
VERSION:2.0
PRODID:-//www.ketchikanarts.org//NONSGML kigkonsult.se iCalcreator 2.30.10/
 /
CALSCALE:GREGORIAN
METHOD:PUBLISH
UID:c1cb6a31-25c2-49d2-8831-5390cd9ecdab
X-WR-CALDESC:
X-WR-RELCALID:743274b9c056ea941326997ccabd7a50
X-WR-TIMEZONE:America/Anchorage
BEGIN:VTIMEZONE
TZID:America/Anchorage
BEGIN:STANDARD
TZNAME:AKST
DTSTART:20201101T020000
TZOFFSETFROM:-0800
TZOFFSETTO:-0900
RDATE:20211107T020000
END:STANDARD
BEGIN:DAYLIGHT
TZNAME:AKDT
DTSTART:20210314T020000
TZOFFSETFROM:-0900
TZOFFSETTO:-0800
RDATE:20220313T020000
END:DAYLIGHT
END:VTIMEZONE
BEGIN:VEVENT
UID:64f0cade-4848-41ff-aac8-133e3b546e3f
DTSTAMP:20260421T062150Z
DESCRIPTION:
DTSTART;TZID=America/Anchorage:20210409T150000
DTEND;TZID=America/Anchorage:20210409T160000
LOCATION:
SUMMARY:Mary Poppins Jr.
END:VEVENT
END:VCALENDAR
