BEGIN:VCALENDAR
VERSION:2.0
PRODID:-//www.ketchikanarts.org//NONSGML kigkonsult.se iCalcreator 2.30.10/
 /
CALSCALE:GREGORIAN
METHOD:PUBLISH
UID:6d1ed4bc-f2ab-4637-817a-71751ade75ff
X-WR-CALDESC:
X-WR-RELCALID:cf0876863984bf10c6ab5b751a8590da
X-WR-TIMEZONE:America/Anchorage
BEGIN:VTIMEZONE
TZID:America/Anchorage
BEGIN:STANDARD
TZNAME:AKST
DTSTART:20201101T020000
TZOFFSETFROM:-0800
TZOFFSETTO:-0900
RDATE:20211107T020000
END:STANDARD
BEGIN:DAYLIGHT
TZNAME:AKDT
DTSTART:20210314T020000
TZOFFSETFROM:-0900
TZOFFSETTO:-0800
RDATE:20220313T020000
END:DAYLIGHT
END:VTIMEZONE
BEGIN:VEVENT
UID:2d38ebda-9749-4793-ba99-1c86fa0bb9cb
DTSTAMP:20260421T062217Z
DESCRIPTION:
DTSTART;TZID=America/Anchorage:20210408T150000
DTEND;TZID=America/Anchorage:20210408T160000
LOCATION:
SUMMARY:Mary Poppins Jr.
END:VEVENT
END:VCALENDAR
