BEGIN:VCALENDAR
VERSION:2.0
PRODID:-//www.ketchikanarts.org//NONSGML kigkonsult.se iCalcreator 2.30.10/
 /
CALSCALE:GREGORIAN
METHOD:PUBLISH
UID:a0210ca5-f723-4a8e-bb78-4f5bef2d5db7
X-WR-CALDESC:The opening reception for 'ActIII: Tides of Change' fiber arti
 sts Ann Carlson\, Sherry Henrickson\, Jackie Keizer\, and Deb Turnbull cel
 ebrate the sea\, the forest\, and friendship!
X-WR-RELCALID:55e8154004b996d46ef73ab202b6f1c9
X-WR-TIMEZONE:America/Anchorage
BEGIN:VTIMEZONE
TZID:America/Anchorage
BEGIN:STANDARD
TZNAME:AKST
DTSTART:20201101T020000
TZOFFSETFROM:-0800
TZOFFSETTO:-0900
RDATE:20211107T020000
END:STANDARD
BEGIN:DAYLIGHT
TZNAME:AKDT
DTSTART:20210314T020000
TZOFFSETFROM:-0900
TZOFFSETTO:-0800
RDATE:20220313T020000
END:DAYLIGHT
END:VTIMEZONE
BEGIN:VEVENT
UID:93710c5e-4e2b-452a-ab2f-6583fb5a4cc9
DTSTAMP:20260421T061844Z
DESCRIPTION:The opening reception for 'ActIII: Tides of Change' fiber artis
 ts Ann Carlson\, Sherry Henrickson\, Jackie Keizer\, and Deb Turnbull cele
 brate the sea\, the forest\, and friendship!
DTSTART;TZID=America/Anchorage:20210407T140000
DTEND;TZID=America/Anchorage:20210407T200000
LOCATION:330 Main Street\, Ketchikan\, AK 99901 US
SUMMARY:Act:III Tides of Transition Opening Reception
END:VEVENT
END:VCALENDAR
