BEGIN:VCALENDAR
VERSION:2.0
PRODID:-//www.ketchikanarts.org//NONSGML kigkonsult.se iCalcreator 2.30.10/
 /
CALSCALE:GREGORIAN
METHOD:PUBLISH
UID:00c4f072-624b-42bc-80bf-c5a6a8df8d52
X-WR-CALDESC:
X-WR-RELCALID:0b03e529e39a74d8354ab69c7a6c3ab2
X-WR-TIMEZONE:America/Anchorage
BEGIN:VTIMEZONE
TZID:America/Anchorage
BEGIN:STANDARD
TZNAME:AKST
DTSTART:20201101T020000
TZOFFSETFROM:-0800
TZOFFSETTO:-0900
RDATE:20211107T020000
END:STANDARD
BEGIN:DAYLIGHT
TZNAME:AKDT
DTSTART:20210314T020000
TZOFFSETFROM:-0900
TZOFFSETTO:-0800
RDATE:20220313T020000
END:DAYLIGHT
END:VTIMEZONE
BEGIN:VEVENT
UID:6a08f92f-472a-45e1-af78-6549df0349de
DTSTAMP:20260421T063456Z
DESCRIPTION:
DTSTART;TZID=America/Anchorage:20210406T190000
DTEND;TZID=America/Anchorage:20210406T210000
LOCATION:
SUMMARY:Mary Poppins Jr.
END:VEVENT
END:VCALENDAR
