BEGIN:VCALENDAR
VERSION:2.0
PRODID:-//www.ketchikanarts.org//NONSGML kigkonsult.se iCalcreator 2.30.10/
 /
CALSCALE:GREGORIAN
METHOD:PUBLISH
UID:806e2515-b858-4399-8856-a192cde837ae
X-WR-CALDESC:Overview\nThis is an exciting opportunity for a visionary arti
 st or artist team to create a unique artwork\ninside or in proximity to th
 e new Plant Sciences Building at Washington State University in\nPullman\,
  commissioned through ArtsWA’s Art in Public Places program. The artwork m
 ay be\ninterior or exterior\, or both.
X-WR-RELCALID:a7032ea2ecca04453444597f7ea73a2d
X-WR-TIMEZONE:America/Anchorage
BEGIN:VTIMEZONE
TZID:America/Anchorage
BEGIN:STANDARD
TZNAME:AKST
DTSTART:20201101T020000
TZOFFSETFROM:-0800
TZOFFSETTO:-0900
RDATE:20211107T020000
END:STANDARD
BEGIN:DAYLIGHT
TZNAME:AKDT
DTSTART:20210314T020000
TZOFFSETFROM:-0900
TZOFFSETTO:-0800
RDATE:20220313T020000
END:DAYLIGHT
END:VTIMEZONE
BEGIN:VEVENT
UID:30fa296e-7fc5-4964-acff-1e47b43baa24
DTSTAMP:20260421T061559Z
DESCRIPTION:Overview\nThis is an exciting opportunity for a visionary artis
 t or artist team to create a unique artwork\ninside or in proximity to the
  new Plant Sciences Building at Washington State University in\nPullman\, 
 commissioned through ArtsWA’s Art in Public Places program. The artwork ma
 y be\ninterior or exterior\, or both.
DTSTART;TZID=America/Anchorage:20210402T093000
DTEND;TZID=America/Anchorage:20210402T150000
LOCATION:
SUMMARY:ArtsWA Washington State University
END:VEVENT
END:VCALENDAR
