BEGIN:VCALENDAR
VERSION:2.0
PRODID:-//www.ketchikanarts.org//NONSGML kigkonsult.se iCalcreator 2.30.10/
 /
CALSCALE:GREGORIAN
METHOD:PUBLISH
UID:4f8ed330-022c-43b4-8334-a15bfc41c58a
X-WR-CALDESC:
X-WR-RELCALID:bc21576aec861153e3bc6ed394940614
X-WR-TIMEZONE:America/Anchorage
BEGIN:VTIMEZONE
TZID:America/Anchorage
BEGIN:STANDARD
TZNAME:AKST
DTSTART:20201101T020000
TZOFFSETFROM:-0800
TZOFFSETTO:-0900
RDATE:20211107T020000
END:STANDARD
BEGIN:DAYLIGHT
TZNAME:AKDT
DTSTART:20210314T020000
TZOFFSETFROM:-0900
TZOFFSETTO:-0800
RDATE:20220313T020000
END:DAYLIGHT
END:VTIMEZONE
BEGIN:VEVENT
UID:6c171cc4-934f-4321-a115-056bf5dc8baf
DTSTAMP:20260421T063104Z
DESCRIPTION:
DTSTART;TZID=America/Anchorage:20210402T190000
DTEND;TZID=America/Anchorage:20210402T210000
LOCATION:
SUMMARY:Mary Poppins Jr.
END:VEVENT
END:VCALENDAR
