BEGIN:VCALENDAR
VERSION:2.0
PRODID:-//www.ketchikanarts.org//NONSGML kigkonsult.se iCalcreator 2.30.10/
 /
CALSCALE:GREGORIAN
METHOD:PUBLISH
UID:349177fb-e502-423b-b4db-7154102ebbfa
X-WR-CALDESC:The initiative supports artists facing dire financial emergenc
 ies in the pandemic with $5\,000 grants. Please note: if you earlier recei
 ved assistance through Artist Relief\, you may not apply again. More infor
 mation can be found at the link below. \nFAQ: https://www.artistrelief.org
 /faq\nArtist Relief was organized by The Academy of American Poets\, Artad
 ia\, Creative Capital\, Foundation for Contemporary Arts\, MAP Fund\, Nati
 onal YoungArts Foundation\, and United States Artists (we are a supporter 
 and founder of the latter).\nAmericans for the Arts  has updated this surv
 ey to identify and address the needs of artists and creative workers: \n#A
 Kartists
X-WR-RELCALID:1099035b551e3ea425499cbf721964e4
X-WR-TIMEZONE:America/Anchorage
BEGIN:VTIMEZONE
TZID:America/Anchorage
BEGIN:STANDARD
TZNAME:AKST
DTSTART:20201101T020000
TZOFFSETFROM:-0800
TZOFFSETTO:-0900
RDATE:20211107T020000
END:STANDARD
BEGIN:DAYLIGHT
TZNAME:AKDT
DTSTART:20210314T020000
TZOFFSETFROM:-0900
TZOFFSETTO:-0800
RDATE:20220313T020000
END:DAYLIGHT
END:VTIMEZONE
BEGIN:VEVENT
UID:68419b81-a413-40ac-a8d0-3c72710dbc82
DTSTAMP:20260421T074642Z
DESCRIPTION:The initiative supports artists facing dire financial emergenci
 es in the pandemic with $5\,000 grants. Please note: if you earlier receiv
 ed assistance through Artist Relief\, you may not apply again. More inform
 ation can be found at the link below. \nFAQ: https://www.artistrelief.org/
 faq\nArtist Relief was organized by The Academy of American Poets\, Artadi
 a\, Creative Capital\, Foundation for Contemporary Arts\, MAP Fund\, Natio
 nal YoungArts Foundation\, and United States Artists (we are a supporter a
 nd founder of the latter).\nAmericans for the Arts  has updated this surve
 y to identify and address the needs of artists and creative workers: \n#AK
 artists
DTSTART;TZID=America/Anchorage:20210331T100000
DTEND;TZID=America/Anchorage:20210331T195900
LOCATION:
SUMMARY:Artist Relief Grants
END:VEVENT
END:VCALENDAR
