BEGIN:VCALENDAR
VERSION:2.0
PRODID:-//www.ketchikanarts.org//NONSGML kigkonsult.se iCalcreator 2.30.10/
 /
CALSCALE:GREGORIAN
METHOD:PUBLISH
UID:5977d0de-4909-4711-85b5-4ac24cacbce9
X-WR-CALDESC:Clinics are available to anyone age 18 or above through pre-sc
 heduled appointments made online or by phone. To schedule an appointment b
 y phone\, call the Alaska COVID Helpline at 907-646-3322. The Helpline is 
 now staffed Monday-Friday from 9 a.m. - 6:30 p.m. and 9 a.m. - 4:30 p.m. o
 n weekends. Appointments will be filled on a first-come-first-serve basis.
  To schedule an appointment online\, go to http://covidvax.alaska.gov\nFre
 e\n9:00 a.m. to 3:00 p.m Saxman Community Center 
X-WR-RELCALID:0f7ef12e7f02b50e2bc335a77f8601a1
X-WR-TIMEZONE:America/Anchorage
BEGIN:VTIMEZONE
TZID:America/Anchorage
BEGIN:STANDARD
TZNAME:AKST
DTSTART:20201101T020000
TZOFFSETFROM:-0800
TZOFFSETTO:-0900
RDATE:20211107T020000
END:STANDARD
BEGIN:DAYLIGHT
TZNAME:AKDT
DTSTART:20210314T020000
TZOFFSETFROM:-0900
TZOFFSETTO:-0800
RDATE:20220313T020000
END:DAYLIGHT
END:VTIMEZONE
BEGIN:VEVENT
UID:f329fb2d-d9c0-438c-8c02-1bf51ecedfaf
DTSTAMP:20260421T074523Z
DESCRIPTION:Clinics are available to anyone age 18 or above through pre-sch
 eduled appointments made online or by phone. To schedule an appointment by
  phone\, call the Alaska COVID Helpline at 907-646-3322. The Helpline is n
 ow staffed Monday-Friday from 9 a.m. - 6:30 p.m. and 9 a.m. - 4:30 p.m. on
  weekends. Appointments will be filled on a first-come-first-serve basis. 
 To schedule an appointment online\, go to http://covidvax.alaska.gov\nFree
 \n9:00 a.m. to 3:00 p.m Saxman Community Center 
DTSTART;TZID=America/Anchorage:20210327T090000
DTEND;TZID=America/Anchorage:20210327T150000
LOCATION:
SUMMARY:Vaccination Clinic
END:VEVENT
END:VCALENDAR
