BEGIN:VCALENDAR
VERSION:2.0
PRODID:-//www.ketchikanarts.org//NONSGML kigkonsult.se iCalcreator 2.30.10/
 /
CALSCALE:GREGORIAN
METHOD:PUBLISH
UID:0975ab74-2b2a-4068-af4f-ab40ac36277e
X-WR-CALDESC:Austin Hays Solo Piano and Vocals\nNo Cover (Free)\n21 and ove
 r or accompanied by a parent or legal guardian
X-WR-RELCALID:a145c7953190852a120451bb4752b717
X-WR-TIMEZONE:America/Anchorage
BEGIN:VTIMEZONE
TZID:America/Anchorage
BEGIN:STANDARD
TZNAME:AKST
DTSTART:20201101T020000
TZOFFSETFROM:-0800
TZOFFSETTO:-0900
RDATE:20211107T020000
END:STANDARD
BEGIN:DAYLIGHT
TZNAME:AKDT
DTSTART:20210314T020000
TZOFFSETFROM:-0900
TZOFFSETTO:-0800
RDATE:20220313T020000
END:DAYLIGHT
END:VTIMEZONE
BEGIN:VEVENT
UID:1f8dc784-f8d1-46b0-a72f-1cbb5ef145a6
DTSTAMP:20260421T075047Z
DESCRIPTION:Austin Hays Solo Piano and Vocals\nNo Cover (Free)\n21 and over
  or accompanied by a parent or legal guardian
DTSTART;TZID=America/Anchorage:20210319T190000
DTEND;TZID=America/Anchorage:20210319T210000
LOCATION:Creek Street Cabaret
SUMMARY:Autin Hays at the Creek Street Cabaret
END:VEVENT
END:VCALENDAR
