BEGIN:VCALENDAR
VERSION:2.0
PRODID:-//www.ketchikanarts.org//NONSGML kigkonsult.se iCalcreator 2.30.10/
 /
CALSCALE:GREGORIAN
METHOD:PUBLISH
UID:25a2158d-4d8b-46b2-9504-dddc647c25b2
X-WR-CALDESC:Kristiana Kershaw plays solo guitar live in-person. Must be 21
  or accompanied by a parent or legal guardian.\nFree\n7:00 - 9:00 pm Creek
  Street Cabaret
X-WR-RELCALID:635b741ed6170f7ce562986c266b3560
X-WR-TIMEZONE:America/Anchorage
BEGIN:VTIMEZONE
TZID:America/Anchorage
BEGIN:STANDARD
TZNAME:AKST
DTSTART:20201101T020000
TZOFFSETFROM:-0800
TZOFFSETTO:-0900
RDATE:20211107T020000
END:STANDARD
BEGIN:DAYLIGHT
TZNAME:AKDT
DTSTART:20210314T020000
TZOFFSETFROM:-0900
TZOFFSETTO:-0800
RDATE:20220313T020000
END:DAYLIGHT
END:VTIMEZONE
BEGIN:VEVENT
UID:e73761f0-b81e-4739-9358-7e453abef954
DTSTAMP:20260421T075014Z
DESCRIPTION:Kristiana Kershaw plays solo guitar live in-person. Must be 21 
 or accompanied by a parent or legal guardian.\nFree\n7:00 - 9:00 pm Creek 
 Street Cabaret
DTSTART;TZID=America/Anchorage:20210313T190000
DTEND;TZID=America/Anchorage:20210313T210000
LOCATION:Creek Street Cabaret
SUMMARY:Kristiana Kershaw @The Creek Street Cabaret
END:VEVENT
END:VCALENDAR
