BEGIN:VCALENDAR
VERSION:2.0
PRODID:-//www.ketchikanarts.org//NONSGML kigkonsult.se iCalcreator 2.30.10/
 /
CALSCALE:GREGORIAN
METHOD:PUBLISH
UID:65e1909a-72a8-4673-91dd-eaefef34fa28
X-WR-CALDESC:Photo: Hall Anderson Self-Portrait. KM 91.2.34.1\n\nVIRTUAL Mu
 seum Midday panel discussion with Ketchikan Daily News Photojournalists Ha
 ll Anderson\, Taylor Balkom\, and Dustin Safranek.\n\nCaptured in Time:\nP
 hotographs tell stories and create a visual record of our community\, cont
 ributing further layers of meaning to our collective history. Ketchikan ha
 s been fortunate to have such extraordinary photojournalists documenting o
 ur everyday goings-on\, which benefit us as well as future generations.\n
 \nVIRTUAL event on the Tongass Historical Museum Facebook page.
X-WR-RELCALID:31f9d0c6facbe6334dd3147d0170bd62
X-WR-TIMEZONE:America/Anchorage
BEGIN:VTIMEZONE
TZID:America/Anchorage
BEGIN:STANDARD
TZNAME:AKST
DTSTART:20201101T020000
TZOFFSETFROM:-0800
TZOFFSETTO:-0900
RDATE:20211107T020000
END:STANDARD
BEGIN:DAYLIGHT
TZNAME:AKDT
DTSTART:20200308T020000
TZOFFSETFROM:-0900
TZOFFSETTO:-0800
RDATE:20210314T020000
RDATE:20220313T020000
END:DAYLIGHT
END:VTIMEZONE
BEGIN:VEVENT
UID:bf072ef5-7288-4449-978f-48ae20aa583a
DTSTAMP:20260421T074440Z
DESCRIPTION:Photo: Hall Anderson Self-Portrait. KM 91.2.34.1\n\nVIRTUAL Mus
 eum Midday panel discussion with Ketchikan Daily News Photojournalists Hal
 l Anderson\, Taylor Balkom\, and Dustin Safranek.\n\nCaptured in Time:\nPh
 otographs tell stories and create a visual record of our community\, contr
 ibuting further layers of meaning to our collective history. Ketchikan has
  been fortunate to have such extraordinary photojournalists documenting ou
 r everyday goings-on\, which benefit us as well as future generations.\n\n
 VIRTUAL event on the Tongass Historical Museum Facebook page.
DTSTART;TZID=America/Anchorage:20210304T120000
DTEND;TZID=America/Anchorage:20210304T130000
LOCATION:
SUMMARY:Museum Midday
END:VEVENT
END:VCALENDAR
