BEGIN:VCALENDAR
VERSION:2.0
PRODID:-//www.ketchikanarts.org//NONSGML kigkonsult.se iCalcreator 2.30.10/
 /
CALSCALE:GREGORIAN
METHOD:PUBLISH
UID:c863f35b-f3d4-4f51-8d83-f5b217fbd7b9
X-WR-CALDESC:Calling all Southeast Alaska Poets!\nWhat does water mean to y
 ou? Write a poem 100 words or less including the waters of Southeast Alask
 a that inspired it\, whether in theme\, concept\, image\, or metaphor. Cat
 egories include Elementary School\nMiddle School\nHigh School\n18+\nTo be 
 published in the Spring Ravenscall
X-WR-RELCALID:6452fed21b8b693c0c283119ce60ec21
X-WR-TIMEZONE:America/Anchorage
BEGIN:VTIMEZONE
TZID:America/Anchorage
BEGIN:STANDARD
TZNAME:AKST
DTSTART:20201101T020000
TZOFFSETFROM:-0800
TZOFFSETTO:-0900
RDATE:20211107T020000
END:STANDARD
BEGIN:DAYLIGHT
TZNAME:AKDT
DTSTART:20200308T020000
TZOFFSETFROM:-0900
TZOFFSETTO:-0800
RDATE:20210314T020000
RDATE:20220313T020000
END:DAYLIGHT
END:VTIMEZONE
BEGIN:VEVENT
UID:13c65a63-daa8-471c-8af1-6a4b5670bb0e
DTSTAMP:20260421T090648Z
DESCRIPTION:Calling all Southeast Alaska Poets!\nWhat does water mean to yo
 u? Write a poem 100 words or less including the waters of Southeast Alaska
  that inspired it\, whether in theme\, concept\, image\, or metaphor. Cate
 gories include Elementary School\nMiddle School\nHigh School\n18+\nTo be p
 ublished in the Spring Ravenscall
DTSTART;TZID=America/Anchorage:20210228T090000
DTEND;TZID=America/Anchorage:20210228T170000
LOCATION:
SUMMARY:SEACC Poetry Contest
END:VEVENT
END:VCALENDAR
