BEGIN:VCALENDAR
VERSION:2.0
PRODID:-//www.ketchikanarts.org//NONSGML kigkonsult.se iCalcreator 2.30.10/
 /
CALSCALE:GREGORIAN
METHOD:PUBLISH
UID:b6995cb5-3c3d-476d-84b4-436393d6c4c2
X-WR-CALDESC:Diane Slagle has a broad repertoire of music at her fingertips
 ! She takes requests and is an amazing entertainer! Local LIve Music Live 
 Streamed from the WFH STudio!
X-WR-RELCALID:73d5c6bc3fc117f3a472e5a69361d984
X-WR-TIMEZONE:America/Anchorage
BEGIN:VTIMEZONE
TZID:America/Anchorage
BEGIN:STANDARD
TZNAME:AKST
DTSTART:20201101T020000
TZOFFSETFROM:-0800
TZOFFSETTO:-0900
RDATE:20211107T020000
END:STANDARD
BEGIN:DAYLIGHT
TZNAME:AKDT
DTSTART:20200308T020000
TZOFFSETFROM:-0900
TZOFFSETTO:-0800
RDATE:20210314T020000
RDATE:20220313T020000
END:DAYLIGHT
END:VTIMEZONE
BEGIN:VEVENT
UID:8e56f3ca-53c2-4af4-8f4c-359165bef16d
DTSTAMP:20260421T091458Z
DESCRIPTION:Diane Slagle has a broad repertoire of music at her fingertips!
  She takes requests and is an amazing entertainer! Local LIve Music Live S
 treamed from the WFH STudio!
DTSTART;TZID=America/Anchorage:20210228T200000
DTEND;TZID=America/Anchorage:20210228T220000
LOCATION:https://www.facebook.com/woodysfinesthour
SUMMARY:Live Stream with Diane Slagle Global Piano Bar
END:VEVENT
END:VCALENDAR
