BEGIN:VCALENDAR
VERSION:2.0
PRODID:-//www.ketchikanarts.org//NONSGML kigkonsult.se iCalcreator 2.30.10/
 /
CALSCALE:GREGORIAN
METHOD:PUBLISH
UID:d62b3545-a089-45dd-aa3d-afa867e1317f
X-WR-CALDESC:Join artists Adrianna Jesusita for a two-day class making an e
 poxy resin cheeseboard\n$100 per person
X-WR-RELCALID:b6daeacedaa89f63729c5adac598b58c
X-WR-TIMEZONE:America/Anchorage
BEGIN:VTIMEZONE
TZID:America/Anchorage
BEGIN:STANDARD
TZNAME:AKST
DTSTART:20201101T020000
TZOFFSETFROM:-0800
TZOFFSETTO:-0900
RDATE:20211107T020000
END:STANDARD
BEGIN:DAYLIGHT
TZNAME:AKDT
DTSTART:20200308T020000
TZOFFSETFROM:-0900
TZOFFSETTO:-0800
RDATE:20210314T020000
RDATE:20220313T020000
END:DAYLIGHT
END:VTIMEZONE
BEGIN:VEVENT
UID:02528b66-c641-4ae3-b038-f2b2022c7701
DTSTAMP:20260421T091314Z
DESCRIPTION:Join artists Adrianna Jesusita for a two-day class making an ep
 oxy resin cheeseboard\n$100 per person
DTSTART;TZID=America/Anchorage:20210224T173000
DTEND;TZID=America/Anchorage:20210224T193000
LOCATION:2719 Tongass Ave Suite 206\, Ketchikan \, AK 99901 US
SUMMARY:Artist Lead Cheese Board Class
END:VEVENT
END:VCALENDAR
