BEGIN:VCALENDAR
VERSION:2.0
PRODID:-//www.ketchikanarts.org//NONSGML kigkonsult.se iCalcreator 2.30.10/
 /
CALSCALE:GREGORIAN
METHOD:PUBLISH
UID:a6f3ae85-bfb5-4ed4-9433-7ce9e621a729
X-WR-CALDESC:Austin Hays has a complete Solo Show planned for your listenin
 g enjoyment. Local\, Live Music\, Live Streamed\, brought to you by the WF
 H Studio.
X-WR-RELCALID:7c4f5354a2135f05ee54e50363e53f6c
X-WR-TIMEZONE:America/Anchorage
BEGIN:VTIMEZONE
TZID:America/Anchorage
BEGIN:STANDARD
TZNAME:AKST
DTSTART:20201101T020000
TZOFFSETFROM:-0800
TZOFFSETTO:-0900
RDATE:20211107T020000
END:STANDARD
BEGIN:DAYLIGHT
TZNAME:AKDT
DTSTART:20200308T020000
TZOFFSETFROM:-0900
TZOFFSETTO:-0800
RDATE:20210314T020000
RDATE:20220313T020000
END:DAYLIGHT
END:VTIMEZONE
BEGIN:VEVENT
UID:5afe914f-f5b1-4eec-9d80-009c8ddf0d7b
DTSTAMP:20260421T091515Z
DESCRIPTION:Austin Hays has a complete Solo Show planned for your listening
  enjoyment. Local\, Live Music\, Live Streamed\, brought to you by the WFH
  Studio.
DTSTART;TZID=America/Anchorage:20210220T200000
DTEND;TZID=America/Anchorage:20210220T220000
LOCATION:https://www.facebook.com/woodysfinesthour
SUMMARY:Live Stream Austin Hays Solo Show
END:VEVENT
END:VCALENDAR
