BEGIN:VCALENDAR
VERSION:2.0
PRODID:-//www.ketchikanarts.org//NONSGML kigkonsult.se iCalcreator 2.30.10/
 /
CALSCALE:GREGORIAN
METHOD:PUBLISH
UID:07a329b1-7728-492f-a14b-6cfa5b7705ef
X-WR-CALDESC:More information to come!  Ketchikan Theatre Ballets senior da
 ncers'  recital
X-WR-RELCALID:ec059141d89048de3ae3cb0d88fb4431
X-WR-TIMEZONE:America/Anchorage
BEGIN:VTIMEZONE
TZID:America/Anchorage
BEGIN:STANDARD
TZNAME:AKST
DTSTART:20201101T020000
TZOFFSETFROM:-0800
TZOFFSETTO:-0900
RDATE:20211107T020000
END:STANDARD
BEGIN:DAYLIGHT
TZNAME:AKDT
DTSTART:20200308T020000
TZOFFSETFROM:-0900
TZOFFSETTO:-0800
RDATE:20210314T020000
RDATE:20220313T020000
END:DAYLIGHT
END:VTIMEZONE
BEGIN:VEVENT
UID:ce2433d5-8ee7-4514-a2f0-08fae53c9e49
DTSTAMP:20260421T092800Z
DESCRIPTION:More information to come!  Ketchikan Theatre Ballets senior dan
 cers'  recital
DTSTART;TZID=America/Anchorage:20210219T190000
DTEND;TZID=America/Anchorage:20210219T210000
LOCATION:Kay Hi Auditorium (TBA)
SUMMARY:Canceled - An Evening of Dance A Ketchikan Theatre Ballet Productio
 n
END:VEVENT
END:VCALENDAR
